BEGIN:VCALENDAR
PRODID:-//eluceo/ical//2.0/EN
VERSION:2.0
CALSCALE:GREGORIAN
BEGIN:VEVENT
UID:hbrs-event--e5cf539f-fabd-4309-96aa-84dbf45aa7db
DTSTAMP:20260421T123942Z
LAST-MODIFIED:20260311T095001Z
SUMMARY:1. Fachbereichskolloquium im Sommersemester 2026
DESCRIPTION:1. Fachbereichskolloquium im Sommersemester 2026\nMore informat
 ion at: https://www.h-brs.de/de/anna/termin/1-fachbereichskolloquium-im-so
 mmersemester-2026
DTSTART:20260507T170000
DTEND:20260507T190000
LOCATION:Hochschule Bonn-Rhein-Sieg\, Campus Rheinbach\, von-Liebig-Str. 20
 \, Gebäude C Hörsaal 3\, 53359 Rheinbach
END:VEVENT
END:VCALENDAR
