BEGIN:VCALENDAR
PRODID:-//eluceo/ical//2.0/EN
VERSION:2.0
CALSCALE:GREGORIAN
BEGIN:VEVENT
UID:hbrs-event--cffe0739-1eac-4123-b2f1-df5dddfdf15f
DTSTAMP:20260422T012254Z
LAST-MODIFIED:20260311T092431Z
SUMMARY:2nd Departmental Colloquium in the Summer Semester 2026
DESCRIPTION:2nd Departmental Colloquium in the Summer Semester 2026\nMore i
 nformation at: https://www.h-brs.de/en/anna/event/2nd-departmental-colloqu
 ium-summer-semester-2026
DTSTART:20260611T170000
DTEND:20260611T180000
LOCATION:Hochschule Bonn-Rhein-Sieg\, Campus Rheinbach\, von-Liebig-Str. 20
 \, Gebäude C Hörsaal 3\, 53359 Rheinbach
END:VEVENT
END:VCALENDAR
