BEGIN:VCALENDAR
PRODID:-//eluceo/ical//2.0/EN
VERSION:2.0
CALSCALE:GREGORIAN
BEGIN:VEVENT
UID:hbrs-event--2c80e6a2-b2cf-41cf-9ab4-26c028336761
DTSTAMP:20260421T125032Z
LAST-MODIFIED:20260331T052027Z
SUMMARY:Informationsveranstaltung Master Wirtschaftspsychologie • Start: 
 Sommer 2027
DESCRIPTION:Informationsveranstaltung Master Wirtschaftspsychologie • Sta
 rt: Sommer 2027\nMore information at: https://www.h-brs.de/de/wiwi/termin/
 informationsveranstaltung-master-wirtschaftspsychologie-start-sommer-2027
URL:https://www.h-brs.de/de/form/anmeldung-info-master-wipsy
DTSTART:20260601T170000
DTEND:20260601T190000
LOCATION:Online
END:VEVENT
END:VCALENDAR
