BEGIN:VCALENDAR
PRODID:-//eluceo/ical//2.0/EN
VERSION:2.0
CALSCALE:GREGORIAN
BEGIN:VEVENT
UID:hbrs-event--8f6757b9-1759-48a5-8bb2-9e7c04917bba
DTSTAMP:20260419T170419Z
LAST-MODIFIED:20260324T090259Z
SUMMARY:Schnuppertag Applied Biology
DESCRIPTION:Schnuppertag Applied Biology\nMore information at: https://www.
 h-brs.de/de/anna/termin/schnuppertag-applied-biology
DTSTART:20260409T080000
DTEND:20260409T163000
LOCATION:Hochschule Bonn-Rhein-Sieg\, Treffpunkt Parkplatz zwischen Gebäud
 e A und H am Campus Rheinbach an der von-Liebig-Str. 8\, 53359 Rheinbach
END:VEVENT
END:VCALENDAR
