BEGIN:VCALENDAR
PRODID:-//eluceo/ical//2.0/EN
VERSION:2.0
CALSCALE:GREGORIAN
BEGIN:VEVENT
UID:hbrs-event--66b2acb1-00fe-4c91-970d-4ef90b5b72ea
DTSTAMP:20260422T014922Z
LAST-MODIFIED:20260305T163726Z
SUMMARY:BibLounge: Literature management with Zotero (in English)
DESCRIPTION:BibLounge: Literature management with Zotero (in English)\nMore
  information at: https://www.h-brs.de/de/bib/termin/biblounge-literature-m
 anagement-zotero-english
URL:https://h-brs.webex.com/meet/fachinfo
DTSTART:20260611T170000
DTEND:20260611T173000
LOCATION:Webex
END:VEVENT
END:VCALENDAR
