BEGIN:VCALENDAR
PRODID:-//eluceo/ical//2.0/EN
VERSION:2.0
CALSCALE:GREGORIAN
BEGIN:VEVENT
UID:hbrs-event--feb2b865-a443-4920-a429-da69c5f38c21
DTSTAMP:20260421T085231Z
LAST-MODIFIED:20260330T083413Z
SUMMARY:English placement test for latecomers
DESCRIPTION:English placement test for latecomers\nMore information at: htt
 ps://www.h-brs.de/en/spz/event/english-placement-test-latecomers
DTSTART:20260422T150000
DTEND:20260422T160000
LOCATION:Campus Sankt Augustin\, Raum A 108
END:VEVENT
END:VCALENDAR
