BEGIN:VCALENDAR
PRODID:-//eluceo/ical//2.0/EN
VERSION:2.0
CALSCALE:GREGORIAN
BEGIN:VEVENT
UID:hbrs-event--89dc893f-8b42-4d11-b070-bd203c6cbcad
DTSTAMP:20260423T103030Z
LAST-MODIFIED:20260219T132606Z
SUMMARY:Kinderuni 2026: Wie baut man einen Rennwagen?
DESCRIPTION:Kinderuni 2026: Wie baut man einen Rennwagen?\nMore information
  at: https://www.h-brs.de/de/kum/termin/kinderuni-BRS-Motorsport-2026
DTSTART:20260226T170000
DTEND:20260226T183000
LOCATION:Hochschule Bonn-Rhein-Sieg\, Audimax (Hörsaal 1)\, Grantham-Allee
  20\, 53757 Sankt Augustin
END:VEVENT
END:VCALENDAR
