BEGIN:VCALENDAR
PRODID:-//eluceo/ical//2.0/EN
VERSION:2.0
CALSCALE:GREGORIAN
BEGIN:VEVENT
UID:hbrs-event--61bb707f-6ae5-426f-81a8-9b902491c189
DTSTAMP:20260423T090247Z
LAST-MODIFIED:20260317T090910Z
SUMMARY:Kinderuni 2026: Roboter echt erleben!
DESCRIPTION:Kinderuni 2026: Roboter echt erleben!\nMore information at: htt
 ps://www.h-brs.de/de/kum/termin/kinderuni-2026-roboter-echt-erleben
DTSTART:20260319T170000
DTEND:20260319T183000
LOCATION:Hochschule Bonn-Rhein-Sieg\, Raum C 069\, Grantham-Allee 20\, 5375
 7 Sankt Augustin
END:VEVENT
END:VCALENDAR
