BEGIN:VCALENDAR
PRODID:-//eluceo/ical//2.0/EN
VERSION:2.0
CALSCALE:GREGORIAN
BEGIN:VEVENT
UID:hbrs-event--f1345900-3ecf-41b1-a5b8-e0da612bedef
DTSTAMP:20260423T043253Z
LAST-MODIFIED:20260414T084731Z
SUMMARY:Kinderuni 2026: Das Geheimnis der Gene – entdecke den Code des Le
 bens!
DESCRIPTION:Kinderuni 2026: Das Geheimnis der Gene – entdecke den Code de
 s Lebens!\nMore information at: https://www.h-brs.de/de/kum/termin/kinderu
 ni-2026-das-geheimnis-der-gene-entdecke-den-code-des-lebens
DTSTART:20260423T170000
DTEND:20260423T183000
LOCATION:Hochschule Bonn-Rhein-Sieg\, Hörsaal X\, Gebäude C\, von-Liebig-
 Straße 20\, 53359 Rheinbach
END:VEVENT
END:VCALENDAR
