BEGIN:VCALENDAR
PRODID:-//eluceo/ical//2.0/EN
VERSION:2.0
CALSCALE:GREGORIAN
BEGIN:VEVENT
UID:hbrs-event--7db7014f-6e87-4427-8a56-77dbda5fd7a2
DTSTAMP:20260422T055632Z
LAST-MODIFIED:20260309T082931Z
SUMMARY:Pflanzentauschbörse in der Bibliothek
DESCRIPTION:Pflanzentauschbörse in der Bibliothek\nMore information at: ht
 tps://www.h-brs.de/de/bib/termin/pflanzentauschboerse-der-bibliothek
DTSTART;VALUE=DATE:20260227
DTEND;VALUE=DATE:20260401
LOCATION:Bibliothek Campus Sankt Augustin & Campus Rheinbach
END:VEVENT
END:VCALENDAR
