BEGIN:VCALENDAR
PRODID:-//eluceo/ical//2.0/EN
VERSION:2.0
CALSCALE:GREGORIAN
BEGIN:VEVENT
UID:hbrs-event--32cc5585-5491-4160-9087-d64e300b515f
DTSTAMP:20260419T201308Z
LAST-MODIFIED:20260327T113628Z
SUMMARY:Longest writing day of the year 2026
DESCRIPTION:Longest writing day of the year 2026\nMore information at: http
 s://www.h-brs.de/en/bib/event/longest-writing-day-year-2026
DTSTART:20260616T130000
DTEND:20260616T180000
LOCATION:Bibliothek\, Campus Rheinbach
END:VEVENT
END:VCALENDAR
