BEGIN:VCALENDAR
PRODID:-//eluceo/ical//2.0/EN
VERSION:2.0
CALSCALE:GREGORIAN
BEGIN:VEVENT
UID:hbrs-event--cd9a2133-42a8-4b75-ae9a-440b77e773e5
DTSTAMP:20260422T014216Z
LAST-MODIFIED:20260305T163646Z
SUMMARY:BibLounge: Plagiate in wissenschaftlichen Arbeiten vermeiden
DESCRIPTION:BibLounge: Plagiate in wissenschaftlichen Arbeiten vermeiden\nM
 ore information at: https://www.h-brs.de/de/bib/termin/biblounge-plagiate-
 wissenschaftlichen-arbeiten-vermeiden-0
URL:https://h-brs.webex.com/meet/fachinfo
DTSTART:20260616T170000
DTEND:20260616T173000
LOCATION:Webex
END:VEVENT
END:VCALENDAR
