BEGIN:VCALENDAR
PRODID:-//eluceo/ical//2.0/EN
VERSION:2.0
CALSCALE:GREGORIAN
BEGIN:VEVENT
UID:hbrs-event--db9a72fc-b617-4162-8756-c7785ef95978
DTSTAMP:20260423T134354Z
LAST-MODIFIED:20260417T131326Z
SUMMARY:Absolvent:innenfeier der H-BRS 2026
DESCRIPTION:Absolvent:innenfeier der H-BRS 2026\nMore information at: https
 ://www.h-brs.de/de/kum/termin/absolventinnenfeier-der-h-brs-2026
DTSTART:20261024T133000
DTEND:20261024T220000
LOCATION:Telekom Dome\, Basketsring 1\, 53123 Bonn
END:VEVENT
END:VCALENDAR
