BEGIN:VCALENDAR
PRODID:-//eluceo/ical//2.0/EN
VERSION:2.0
CALSCALE:GREGORIAN
BEGIN:VEVENT
UID:hbrs-event--13ee822b-91ac-4c7a-8855-426a352ca04a
DTSTAMP:20260418T195835Z
LAST-MODIFIED:20260416T092045Z
SUMMARY:Studieninformationstag Rheinbach 2026
DESCRIPTION:Studieninformationstag Rheinbach 2026\nMore information at: htt
 ps://www.h-brs.de/de/d5/termin/studieninformationstag-rheinbach-2026
DTSTART:20260509T100000
DTEND:20260509T140000
LOCATION:Campus Rheinbach
END:VEVENT
END:VCALENDAR
