BEGIN:VCALENDAR
PRODID:-//eluceo/ical//2.0/EN
VERSION:2.0
CALSCALE:GREGORIAN
BEGIN:VEVENT
UID:hbrs-event--9a6fb4a4-e744-43ab-9084-8f8fe19f3a7c
DTSTAMP:20260421T113522Z
LAST-MODIFIED:20260109T111400Z
SUMMARY:Sprechtag für Studieninteressierte: "Dein Weg ins Studium" in Rhei
 nbach
DESCRIPTION:Sprechtag für Studieninteressierte: "Dein Weg ins Studium" in 
 Rheinbach\nMore information at: https://www.h-brs.de/de/d5/termin/sprechta
 g-01-04-26
DTSTART:20260401T093000
DTEND:20260401T141500
LOCATION:Campus Rheinbach
END:VEVENT
END:VCALENDAR
