BEGIN:VCALENDAR
PRODID:-//eluceo/ical//2.0/EN
VERSION:2.0
CALSCALE:GREGORIAN
BEGIN:VEVENT
UID:hbrs-event--aeda9271-5dc5-40fb-a396-2e571fb7199d
DTSTAMP:20260421T235122Z
LAST-MODIFIED:20260305T163822Z
SUMMARY:BibLounge: Literaturmanagement mit Zotero
DESCRIPTION:BibLounge: Literaturmanagement mit Zotero\nMore information at:
  https://www.h-brs.de/de/bib/termin/biblounge-literaturmanagement-mit-zote
 ro-4
URL:https://h-brs.webex.com/meet/fachinfo
DTSTART:20260609T170000
DTEND:20260609T173000
LOCATION:Webex
END:VEVENT
END:VCALENDAR
