BEGIN:VCALENDAR
PRODID:-//eluceo/ical//2.0/EN
VERSION:2.0
CALSCALE:GREGORIAN
BEGIN:VEVENT
UID:hbrs-event--94b43306-3dac-4725-9ad3-92c2eb9ea1f5
DTSTAMP:20260420T184849Z
LAST-MODIFIED:20260305T164018Z
SUMMARY:BibLounge: Excel-Basics für das Studium
DESCRIPTION:BibLounge: Excel-Basics für das Studium\nMore information at: 
 https://www.h-brs.de/de/bib/termin/biblounge-excel-basics-fuer-das-studium
URL:https://h-brs.webex.com/meet/fachinfo
DTSTART:20260512T170000
DTEND:20260512T173000
LOCATION:Webex
END:VEVENT
END:VCALENDAR
