BEGIN:VCALENDAR
PRODID:-//eluceo/ical//2.0/EN
VERSION:2.0
CALSCALE:GREGORIAN
BEGIN:VEVENT
UID:hbrs-event--bd7263e2-df9f-495b-a455-f4c6ddbc28f1
DTSTAMP:20260420T184851Z
LAST-MODIFIED:20260305T164144Z
SUMMARY:BibLounge: Augen auf - Fake News erkennen
DESCRIPTION:BibLounge: Augen auf - Fake News erkennen\nMore information at:
  https://www.h-brs.de/de/bib/termin/biblounge-augen-auf-fake-news-erkennen
URL:https://h-brs.webex.com/meet/fachinfo
DTSTART:20260505T170000
DTEND:20260505T173000
LOCATION:Webex
END:VEVENT
END:VCALENDAR
