BEGIN:VCALENDAR
PRODID:-//eluceo/ical//2.0/EN
VERSION:2.0
CALSCALE:GREGORIAN
BEGIN:VEVENT
UID:hbrs-event--db6e294e-3880-4ce8-8448-4fd46a5535fd
DTSTAMP:20260421T121821Z
LAST-MODIFIED:20260305T163931Z
SUMMARY:BibLounge: Nie wieder Chaos: Speichertools\, die dein Studium leich
 ter machen
DESCRIPTION:BibLounge: Nie wieder Chaos: Speichertools\, die dein Studium l
 eichter machen\nMore information at: https://www.h-brs.de/de/bib/termin/bi
 blounge-nie-wieder-chaos-speichertools-die-dein-studium-leichter-machen
URL:https://h-brs.webex.com/meet/fachinfo
DTSTART:20260521T170000
DTEND:20260521T173000
LOCATION:Webex
END:VEVENT
END:VCALENDAR
