BEGIN:VCALENDAR
PRODID:-//eluceo/ical//2.0/EN
VERSION:2.0
CALSCALE:GREGORIAN
BEGIN:VEVENT
UID:hbrs-event--aa07770f-ad82-4f14-9f2c-185acbc24ee5
DTSTAMP:20260422T014150Z
LAST-MODIFIED:20260305T163027Z
SUMMARY:BibLounge: Prokrastination - Was kann ich gegen die Aufschieberitis
  tun?
DESCRIPTION:BibLounge: Prokrastination - Was kann ich gegen die Aufschieber
 itis tun?\nMore information at: https://www.h-brs.de/de/bib/termin/bibloun
 ge-prokrastination-was-kann-ich-gegen-die-aufschieberitis-tun
URL:https://h-brs.webex.com/meet/fachinfo
DTSTART:20260702T170000
DTEND:20260702T173000
LOCATION:Webex
END:VEVENT
END:VCALENDAR
