BEGIN:VCALENDAR
PRODID:-//eluceo/ical//2.0/EN
VERSION:2.0
CALSCALE:GREGORIAN
BEGIN:VEVENT
UID:hbrs-event--7a3e6d99-68ed-4d6c-9153-4fa7faeba655
DTSTAMP:20260422T013245Z
LAST-MODIFIED:20260305T163514Z
SUMMARY:BibLounge: Endspurt Abschlussarbeiten
DESCRIPTION:BibLounge: Endspurt Abschlussarbeiten\nMore information at: htt
 ps://www.h-brs.de/de/bib/termin/biblounge-endspurt-abschlussarbeiten
URL:https://h-brs.webex.com/meet/fachinfo
DTSTART:20260630T170000
DTEND:20260630T173000
LOCATION:Webex
END:VEVENT
END:VCALENDAR
