BEGIN:VCALENDAR
PRODID:-//eluceo/ical//2.0/EN
VERSION:2.0
CALSCALE:GREGORIAN
BEGIN:VEVENT
UID:hbrs-event--e43a1699-400c-4317-8f72-f9f1d7eda329
DTSTAMP:20260421T110402Z
LAST-MODIFIED:20260323T162351Z
SUMMARY:CytoTransport Progress Meeting (Principal Investigators only)
DESCRIPTION:CytoTransport Progress Meeting (Principal Investigators only)\n
 More information at: https://www.h-brs.de/de/ifga/termin/cytotransport-pro
 gress-meeting-principal-investigators-only
DTSTART:20260430T130000
DTEND:20260430T170000
LOCATION:G106 Rheinbach
END:VEVENT
END:VCALENDAR
