BEGIN:VCALENDAR
PRODID:-//eluceo/ical//2.0/EN
VERSION:2.0
CALSCALE:GREGORIAN
BEGIN:VEVENT
UID:hbrs-event--5069cb7a-cf97-4bc0-a585-36403f8f8487
DTSTAMP:20260421T112546Z
LAST-MODIFIED:20260320T083014Z
SUMMARY:Hackathon Maarwerk
DESCRIPTION:Hackathon Maarwerk\nMore information at: https://www.h-brs.de/d
 e/gruenden/termin/hackathon-maarwerk
DTSTART;VALUE=DATE:20260424
DTEND;VALUE=DATE:20260426
LOCATION:Maarwerk Bonn-Beuel
END:VEVENT
END:VCALENDAR
