BEGIN:VCALENDAR
PRODID:-//eluceo/ical//2.0/EN
VERSION:2.0
CALSCALE:GREGORIAN
BEGIN:VEVENT
UID:hbrs-event--74d55b76-23b0-45dc-87cf-844d8092e943
DTSTAMP:20260421T172332Z
LAST-MODIFIED:20260312T094006Z
SUMMARY:Workshop How-To: Pitch-Deck richtig gestalten
DESCRIPTION:Workshop How-To: Pitch-Deck richtig gestalten\nMore information
  at: https://www.h-brs.de/de/gruenden/termin/pitch-deck-2026
DTSTART:20260623T153000
DTEND:20260623T183000
LOCATION:Campus Sankt Augustin
END:VEVENT
END:VCALENDAR
