BEGIN:VCALENDAR
PRODID:-//eluceo/ical//2.0/EN
VERSION:2.0
CALSCALE:GREGORIAN
BEGIN:VEVENT
UID:hbrs-event--61eb1dea-24e8-49ce-90d8-96f25524237f
DTSTAMP:20260421T152035Z
LAST-MODIFIED:20260107T083839Z
SUMMARY:Konflikte konstruktiv lösen – Erfolgreich kommunizieren im Hochs
 chulalltag
DESCRIPTION:Konflikte konstruktiv lösen – Erfolgreich kommunizieren im H
 ochschulalltag\nMore information at: https://www.h-brs.de/de/ziel/termin/k
 onflikte-konstruktiv-loesen-erfolgreich-kommunizieren-im-hochschulalltag
URL:https://lea.hochschule-bonn-rhein-sieg.de/goto.php/grp/1812811
DTSTART:20260429T100000
DTEND:20260429T170000
LOCATION:Campus Sankt Augustin\, Raum F239
END:VEVENT
END:VCALENDAR
