BEGIN:VCALENDAR
PRODID:-//eluceo/ical//2.0/EN
VERSION:2.0
CALSCALE:GREGORIAN
BEGIN:VEVENT
UID:hbrs-event--4cc5b07d-4c27-420a-bee8-b525362f6ffd
DTSTAMP:20260422T091849Z
LAST-MODIFIED:20260306T074101Z
SUMMARY:Zu Gast auf dem Sofa in Rheinbach: Ulrich Woelk
DESCRIPTION:Zu Gast auf dem Sofa in Rheinbach: Ulrich Woelk\nMore informati
 on at: https://www.h-brs.de/de/bib/termin/zu-gast-auf-dem-sofa-rheinbach-u
 lrich-woelk
DTSTART:20260326T193000
DTEND:20260326T211500
LOCATION:Bibliothek Campus Rheinbach
END:VEVENT
END:VCALENDAR
