BEGIN:VCALENDAR
PRODID:-//eluceo/ical//2.0/EN
VERSION:2.0
CALSCALE:GREGORIAN
BEGIN:VEVENT
UID:hbrs-event--0897acc2-52d1-459a-8240-0812f5c4c42d
DTSTAMP:20260421T164842Z
LAST-MODIFIED:20260126T101916Z
SUMMARY:Modul 2: Schwierige Gesprächssituationen - Teil 2
DESCRIPTION:Modul 2: Schwierige Gesprächssituationen - Teil 2\nMore inform
 ation at: https://www.h-brs.de/de/ziel/termin/modul-2-schwierige-gespraech
 ssituationen-teil-2
URL:https://lea.hochschule-bonn-rhein-sieg.de/goto.php/grp/1823860
DTSTART:20260420T130000
DTEND:20260420T163000
LOCATION:Online Meeting
END:VEVENT
END:VCALENDAR
