BEGIN:VCALENDAR
PRODID:-//eluceo/ical//2.0/EN
VERSION:2.0
CALSCALE:GREGORIAN
BEGIN:VEVENT
UID:hbrs-event--9a5c6d46-af50-4c7a-a595-b9bf635a04b4
DTSTAMP:20260421T125032Z
LAST-MODIFIED:20260210T110649Z
SUMMARY:Begrüßung der neuen Studierenden im Studiengang MAS zum SoSe 2026
DESCRIPTION:Begrüßung der neuen Studierenden im Studiengang MAS zum SoSe 
 2026\nMore information at: https://www.h-brs.de/de/inf/termin/begruessung-
 der-neuen-studierenden-im-studiengang-mas-zum-sose-2026
DTSTART:20260413T140000
DTEND:20260413T160000
LOCATION:Campus Sankt Augustin\, Raum A 102
END:VEVENT
END:VCALENDAR
