BEGIN:VCALENDAR
PRODID:-//eluceo/ical//2.0/EN
VERSION:2.0
CALSCALE:GREGORIAN
BEGIN:VEVENT
UID:hbrs-event--2c47e7d7-1384-4424-b7b9-368af01bfdf5
DTSTAMP:20260421T222627Z
LAST-MODIFIED:20260218T093117Z
SUMMARY:Zu Gast auf dem Sofa: Shelly Kupferberg
DESCRIPTION:Zu Gast auf dem Sofa: Shelly Kupferberg\nMore information at: h
 ttps://www.h-brs.de/de/bib/termin/zu-gast-auf-dem-sofa-shelly-kupferberg
DTSTART:20260609T193000
DTEND:20260609T210000
LOCATION:Hochschul- und Kreisbibliothek Bonn-Rhein-Sieg\, Campus Sankt Augu
 stin
END:VEVENT
END:VCALENDAR
