BEGIN:VCALENDAR
PRODID:-//eluceo/ical//2.0/EN
VERSION:2.0
CALSCALE:GREGORIAN
BEGIN:VEVENT
UID:hbrs-event--72b446d8-c25c-47a9-9b51-fe0766cd1f55
DTSTAMP:20260421T181831Z
LAST-MODIFIED:20260323T162608Z
SUMMARY:Life Sciences Lunchtime Research Seminar
DESCRIPTION:Life Sciences Lunchtime Research Seminar\nMore information at: 
 https://www.h-brs.de/de/ifga/termin/life-sciences-lunchtime-research-semin
 ar-0
DTSTART:20260421T114500
DTEND:20260421T123000
LOCATION:Lecture Hall HS 3 Rheinbach
END:VEVENT
END:VCALENDAR
