BEGIN:VCALENDAR
PRODID:-//eluceo/ical//2.0/EN
VERSION:2.0
CALSCALE:GREGORIAN
BEGIN:VEVENT
UID:hbrs-event--300e516e-1704-4827-8356-feef9ac7f722
DTSTAMP:20260421T211541Z
LAST-MODIFIED:20260323T162723Z
SUMMARY:Life Sciences Lunchtime Research Seminar
DESCRIPTION:Life Sciences Lunchtime Research Seminar\nMore information at: 
 https://www.h-brs.de/de/ifga/termin/life-sciences-lunchtime-research-semin
 ar-1
DTSTART:20260512T114500
DTEND:20260512T123000
LOCATION:Lecture Hall HS 3 Rheinbach
END:VEVENT
END:VCALENDAR
