BEGIN:VCALENDAR
PRODID:-//eluceo/ical//2.0/EN
VERSION:2.0
CALSCALE:GREGORIAN
BEGIN:VEVENT
UID:hbrs-event--3f8587c4-486f-4777-8cee-3b8e94de6f7d
DTSTAMP:20260421T211613Z
LAST-MODIFIED:20260323T162851Z
SUMMARY:Life Sciences Lunchtime Research Seminar
DESCRIPTION:Life Sciences Lunchtime Research Seminar\nMore information at: 
 https://www.h-brs.de/de/ifga/termin/life-sciences-lunchtime-research-semin
 ar-2
DTSTART:20260609T114500
DTEND:20260609T123000
LOCATION:Lecture Hall HS 3 Rheinbach
END:VEVENT
END:VCALENDAR
