BEGIN:VCALENDAR
PRODID:-//eluceo/ical//2.0/EN
VERSION:2.0
CALSCALE:GREGORIAN
BEGIN:VEVENT
UID:hbrs-event--ea7110d9-6f55-4966-9d0d-1820b8fd2dee
DTSTAMP:20260421T211541Z
LAST-MODIFIED:20260323T162940Z
SUMMARY:Life Sciences Lunchtime Research Seminar
DESCRIPTION:Life Sciences Lunchtime Research Seminar\nMore information at: 
 https://www.h-brs.de/de/ifga/termin/life-sciences-lunchtime-research-semin
 ar-3
DTSTART:20260707T114500
DTEND:20260707T123000
LOCATION:Lecture Hall HS 3 Rheinbach
END:VEVENT
END:VCALENDAR
