BEGIN:VCALENDAR
PRODID:-//eluceo/ical//2.0/EN
VERSION:2.0
CALSCALE:GREGORIAN
BEGIN:VEVENT
UID:hbrs-event--7e376cca-e2e9-4a76-81ec-a5b10df1d6ca
DTSTAMP:20260421T152035Z
LAST-MODIFIED:20260224T082745Z
SUMMARY:Canva: Grundlagen und erste Schritte
DESCRIPTION:Canva: Grundlagen und erste Schritte\nMore information at: http
 s://www.h-brs.de/de/ziel/termin/canva-grundlagen-und-erste-schritte
URL:https://lea.hochschule-bonn-rhein-sieg.de/goto.php/grp/1830456
DTSTART:20260610T140000
DTEND:20260610T160000
LOCATION:Videokonferenz
END:VEVENT
END:VCALENDAR
