BEGIN:VCALENDAR
PRODID:-//eluceo/ical//2.0/EN
VERSION:2.0
CALSCALE:GREGORIAN
BEGIN:VEVENT
UID:hbrs-event--34f5ead4-db51-4df3-bb7f-5cf6f1390aa5
DTSTAMP:20260425T205335Z
LAST-MODIFIED:20260224T083216Z
SUMMARY:Canva: Schluss mit PowerPoint - Visuals für die Lehre mit Canva
DESCRIPTION:Canva: Schluss mit PowerPoint - Visuals für die Lehre mit Canv
 a\nMore information at: https://www.h-brs.de/de/ziel/termin/canva-schluss-
 mit-powerpoint-visuals-fuer-die-lehre-mit-canva
URL:https://lea.hochschule-bonn-rhein-sieg.de/goto.php/grp/1830460
DTSTART:20260617T140000
DTEND:20260617T160000
LOCATION:Videokonferenz
END:VEVENT
END:VCALENDAR
