BEGIN:VCALENDAR
PRODID:-//eluceo/ical//2.0/EN
VERSION:2.0
CALSCALE:GREGORIAN
BEGIN:VEVENT
UID:hbrs-event--8df9163b-098d-43a3-b381-13e5eeabbb57
DTSTAMP:20260422T013255Z
LAST-MODIFIED:20260227T121936Z
SUMMARY:Sprechtag für Studieninteressierte: "Dein Weg ins Studium" - am Ca
 mpus Sankt Augustin
DESCRIPTION:Sprechtag für Studieninteressierte: "Dein Weg ins Studium" - a
 m Campus Sankt Augustin\nMore information at: https://www.h-brs.de/de/d5/t
 ermin/sprechtag_01juli26
DTSTART:20260701T093000
DTEND:20260701T133000
LOCATION:Campus Sankt Augustin
END:VEVENT
END:VCALENDAR
