BEGIN:VCALENDAR
PRODID:-//eluceo/ical//2.0/EN
VERSION:2.0
CALSCALE:GREGORIAN
BEGIN:VEVENT
UID:hbrs-event--589aedd1-9207-4151-afca-9965d4d45bea
DTSTAMP:20260423T145918Z
LAST-MODIFIED:20260423T111541Z
SUMMARY:Sprechtag für Studieninteressierte: "Dein Weg ins Studium" - am Ca
 mpus Sankt Augustin
DESCRIPTION:Sprechtag für Studieninteressierte: "Dein Weg ins Studium" - a
 m Campus Sankt Augustin\nMore information at: https://www.h-brs.de/de/d5/t
 ermin/sprechtag_10juli26
DTSTART:20260708T093000
DTEND:20260708T133000
LOCATION:Campus Sankt Augustin
END:VEVENT
END:VCALENDAR
