BEGIN:VCALENDAR
PRODID:-//eluceo/ical//2.0/EN
VERSION:2.0
CALSCALE:GREGORIAN
BEGIN:VEVENT
UID:hbrs-event--b1adbba5-44ac-48bb-8ca3-7345907789b0
DTSTAMP:20260421T085119Z
LAST-MODIFIED:20260331T073042Z
SUMMARY:Digital TestDaF in Sankt Augustin
DESCRIPTION:Digital TestDaF in Sankt Augustin\nMore information at: https:/
 /www.h-brs.de/en/spz/event/digital-testdaf-sankt-augustin-0
DTSTART:20260421T134500
DTEND:20260421T190000
LOCATION:Campus Sankt Augustin\, Raum A108
END:VEVENT
END:VCALENDAR
