BEGIN:VCALENDAR
PRODID:-//eluceo/ical//2.0/EN
VERSION:2.0
CALSCALE:GREGORIAN
BEGIN:VEVENT
UID:hbrs-event--076d6e85-fe25-4580-8079-8ca6e3e96cee
DTSTAMP:20260422T013234Z
LAST-MODIFIED:20260318T104944Z
SUMMARY:Workshop Writing Centre: How to write a thesis I (BA & MA)
DESCRIPTION:Workshop Writing Centre: How to write a thesis I (BA & MA)\nMor
 e information at: https://www.h-brs.de/de/spz/termin/workshop-writing-cent
 re-how-write-thesis-i-ba-ma-1
DTSTART:20260617T150000
DTEND:20260617T171500
LOCATION:Webex
END:VEVENT
END:VCALENDAR
