BEGIN:VCALENDAR
PRODID:-//eluceo/ical//2.0/EN
VERSION:2.0
CALSCALE:GREGORIAN
BEGIN:VEVENT
UID:hbrs-event--ed26bdfe-5b37-4b1c-bbdb-176ce1c837fa
DTSTAMP:20260422T013233Z
LAST-MODIFIED:20260318T105433Z
SUMMARY:Workshop Writing Centre: How to write a thesis II (BA & MA)
DESCRIPTION:Workshop Writing Centre: How to write a thesis II (BA & MA)\nMo
 re information at: https://www.h-brs.de/de/spz/termin/workshop-writing-cen
 tre-how-write-thesis-ii-ba-ma-0
DTSTART:20260624T150000
DTEND:20260624T171500
LOCATION:Webex
END:VEVENT
END:VCALENDAR
