BEGIN:VCALENDAR
PRODID:-//eluceo/ical//2.0/EN
VERSION:2.0
CALSCALE:GREGORIAN
BEGIN:VEVENT
UID:hbrs-event--0a7077b8-1713-4662-b86d-1c10fc0e3a02
DTSTAMP:20260422T002526Z
LAST-MODIFIED:20260318T194420Z
SUMMARY:Workshop Writing Centre: How to write for university I
DESCRIPTION:Workshop Writing Centre: How to write for university I\nMore in
 formation at: https://www.h-brs.de/de/spz/termin/workshop-writing-centre-h
 ow-write-university-i-1
DTSTART:20260610T150000
DTEND:20260610T171500
LOCATION:Webex
END:VEVENT
END:VCALENDAR
