BEGIN:VCALENDAR
PRODID:-//eluceo/ical//2.0/EN
VERSION:2.0
CALSCALE:GREGORIAN
BEGIN:VEVENT
UID:hbrs-event--51241bd7-e6a9-4ec5-abf1-21ce66fc4109
DTSTAMP:20260420T175945Z
LAST-MODIFIED:20260326T092200Z
SUMMARY:Start-up Summer School 2026
DESCRIPTION:Start-up Summer School 2026\nMore information at: https://www.h
 -brs.de/en/founders/date/summer-school-2026\njeweils 10 bis 17 Uhr
DTSTART;VALUE=DATE:20260810
DTEND;VALUE=DATE:20260815
LOCATION:Brühler Straße 7 (Bonn) und Digitalhub am Bonner Hauptbahnhof
END:VEVENT
END:VCALENDAR
