BEGIN:VCALENDAR
PRODID:-//eluceo/ical//2.0/EN
VERSION:2.0
CALSCALE:GREGORIAN
BEGIN:VEVENT
UID:hbrs-event--7263842f-e2a0-4157-9982-2fd7b6558f7d
DTSTAMP:20260422T024156Z
LAST-MODIFIED:20260324T135147Z
SUMMARY:Workshop "Sorgende Hochschule" mit Feline Tecklenburg am 27. April 
 2026
DESCRIPTION:Workshop "Sorgende Hochschule" mit Feline Tecklenburg am 27. Ap
 ril 2026\nMore information at: https://www.h-brs.de/de/zev/termin/workshop
 -sorgende-hochschule-mit-feline-tecklenburg-am-27-april-2026
DTSTART:20260427T100000
DTEND:20260427T150000
LOCATION:Campus Sankt Augustin\, der Raum wird noch bekannt gegeben
END:VEVENT
END:VCALENDAR
