BEGIN:VCALENDAR
PRODID:-//eluceo/ical//2.0/EN
VERSION:2.0
CALSCALE:GREGORIAN
BEGIN:VEVENT
UID:hbrs-event--dcc549fc-e6ca-43a0-b4cc-d57eb0cde910
DTSTAMP:20260420T193759Z
LAST-MODIFIED:20260324T105948Z
SUMMARY:Unternehmenstag 2026 - die Karrieremesse am Campus Sankt Augustin
DESCRIPTION:Unternehmenstag 2026 - die Karrieremesse am Campus Sankt August
 in\nMore information at: https://www.h-brs.de/de/zwt/termin/unternehmensta
 g-2026-die-karrieremesse-am-campus-sankt-augustin\n10 Uhr - 16 Uhr
DTSTART;VALUE=DATE:20261104
DTEND;VALUE=DATE:20261106
LOCATION:Campus Sankt Augustin
END:VEVENT
END:VCALENDAR
