BEGIN:VCALENDAR
PRODID:-//eluceo/ical//2.0/EN
VERSION:2.0
CALSCALE:GREGORIAN
BEGIN:VEVENT
UID:hbrs-event--ba056e19-632d-47c6-b6c9-6f73a39da65d
DTSTAMP:20260419T184109Z
LAST-MODIFIED:20260327T161500Z
SUMMARY:KickStart Studium! SPEZIAL - Betriebswirtschaft (B.Sc.)
DESCRIPTION:KickStart Studium! SPEZIAL - Betriebswirtschaft (B.Sc.)\nMore i
 nformation at: https://www.h-brs.de/de/wiwi/termin/kickstart-studium-spezi
 al-betriebswirtschaft-bsc-1
URL:https://h-brs.webex.com/h-brs/j.php?MTID=m16f0c9ca868bb19b293d2b150ecdb
 64d
DTSTART:20260610T160000
DTEND:20260610T164500
LOCATION:Rheinbach und Sankt Augustin
END:VEVENT
END:VCALENDAR
