BEGIN:VCALENDAR
PRODID:-//eluceo/ical//2.0/EN
VERSION:2.0
CALSCALE:GREGORIAN
BEGIN:VEVENT
UID:hbrs-event--dd04fad1-8e5b-44ec-b3a5-6d8642b34e14
DTSTAMP:20260422T003738Z
LAST-MODIFIED:20260407T130944Z
SUMMARY:Self Empowerment and Motivation 
DESCRIPTION:Self Empowerment and Motivation \nMore information at: https://
 www.h-brs.de/de/io/termin/self-empowerment-and-motivation
DTSTART:20260702T163000
DTEND:20260702T180000
LOCATION:Online
END:VEVENT
END:VCALENDAR
