BEGIN:VCALENDAR
PRODID:-//eluceo/ical//2.0/EN
VERSION:2.0
CALSCALE:GREGORIAN
BEGIN:VEVENT
UID:hbrs-event--030ff4c4-eba1-4628-a344-00bf17a5fe75
DTSTAMP:20260420T184650Z
LAST-MODIFIED:20260415T073409Z
SUMMARY:How to develop your Research Proposal
DESCRIPTION:How to develop your Research Proposal\nMore information at: htt
 ps://www.h-brs.de/de/gi/termin/how-develop-your-research-proposal
DTSTART:20260513T093000
DTEND:20260513T130000
LOCATION:A 102
END:VEVENT
END:VCALENDAR
