BEGIN:VCALENDAR
PRODID:-//eluceo/ical//2.0/EN
VERSION:2.0
CALSCALE:GREGORIAN
BEGIN:VEVENT
UID:hbrs-event--8f49dfbb-0e6c-4019-94bb-362bfd2da8e5
DTSTAMP:20260423T042747Z
LAST-MODIFIED:20260416T131736Z
SUMMARY:Kino an der H-BRS (Sankt Augustin): „Das Kanu des Manitu“  
DESCRIPTION:Kino an der H-BRS (Sankt Augustin): „Das Kanu des Manitu“  
 \nMore information at: https://www.h-brs.de/de/kum/termin/kino-der-h-brs-s
 ankt-augustin-das-kanu-des-manitu
DTSTART:20260428T190000
DTEND:20260428T210000
LOCATION:H-BRS\, Campus Sankt Augustin\, Audimax
END:VEVENT
END:VCALENDAR
