BEGIN:VCALENDAR
PRODID:-//eluceo/ical//2.0/EN
VERSION:2.0
CALSCALE:GREGORIAN
BEGIN:VEVENT
UID:hbrs-event--025058f4-53f5-48f7-b799-fbf9059a252d
DTSTAMP:20260421T082939Z
LAST-MODIFIED:20260420T100225Z
SUMMARY:77. Sitzung des Hochschulrates
DESCRIPTION:77. Sitzung des Hochschulrates\nMore information at: https://ww
 w.h-brs.de/de/ho/termin/77-sitzung-des-hochschulrates
DTSTART:20260423T150000
DTEND:20260423T181500
LOCATION:Campus Sankt Augustin
END:VEVENT
END:VCALENDAR
