BEGIN:VCALENDAR
PRODID:-//eluceo/ical//2.0/EN
VERSION:2.0
CALSCALE:GREGORIAN
BEGIN:VEVENT
UID:hbrs-event--77e33138-73b3-4278-aad3-d1249f96f6e5
DTSTAMP:20260420T191108Z
LAST-MODIFIED:20260420T123304Z
SUMMARY:Students meet Business – Cybersecurity Edition
DESCRIPTION:Students meet Business – Cybersecurity Edition\nMore informat
 ion at: https://www.h-brs.de/de/inf/termin/students-meet-business-cybersec
 urity-edition
DTSTART:20260423T173000
DTEND:20260423T190000
LOCATION:Hörsaal 8\, H-BRS Campus Sankt Augustin
END:VEVENT
END:VCALENDAR
